BEGIN:VCALENDAR
VERSION:2.0
CALSCALE:GREGORIAN
PRODID:-//Diputació de Barcelona//DibaCMS//EN
BEGIN:VEVENT
UID:9747
DTSTAMP:20260423T102702
DTSTART:20260508T120000
DTEND:20260508T140000
SUMMARY:Oficina de sensibilització ambiental
LOCATION:Passatge Marconi s/n- Valldemar 08729 Castellet i la Gornal
METHOD:PUBLISH
X-WR-CALNAME:
X-WR-TIMEZONE:Europe/Madrid
DESCRIPTION:Punt de lliurament de clauers i resolució de dubtes

Valldemar - Centre Cívic de Valldemar

URI:https://www.castelletilagornal.cat/actualitat/agenda/9747-oficina-de-sensibilitzacio-ambiental.html
CLASS:PUBLIC
END:VEVENT
END:VCALENDAR
